BEGIN:VCALENDAR
VERSION:2.0
PRODID:-//Glasgow and West of Scotland Forum of Housing Associations - ECPv5.3.2.1//NONSGML v1.0//EN
CALSCALE:GREGORIAN
METHOD:PUBLISH
X-WR-CALNAME:Glasgow and West of Scotland Forum of Housing Associations
X-ORIGINAL-URL:https://gwsf.org.uk
X-WR-CALDESC:Events for Glasgow and West of Scotland Forum of Housing Associations
BEGIN:VTIMEZONE
TZID:Europe/London
BEGIN:DAYLIGHT
TZOFFSETFROM:+0000
TZOFFSETTO:+0100
TZNAME:BST
DTSTART:20170326T010000
END:DAYLIGHT
BEGIN:STANDARD
TZOFFSETFROM:+0100
TZOFFSETTO:+0000
TZNAME:GMT
DTSTART:20171029T010000
END:STANDARD
END:VTIMEZONE
BEGIN:VEVENT
DTSTART;TZID=Europe/London:20170612T140000
DTEND;TZID=Europe/London:20170612T160000
DTSTAMP:20260426T010919
CREATED:20170424T134307Z
LAST-MODIFIED:20170424T134317Z
UID:1910-1497276000-1497283200@gwsf.org.uk
SUMMARY:TC Young's Jim Bauld on the 2014 Act tenancy and allocations provisions - GWSF Housing Management Group
DESCRIPTION:
URL:https://gwsf.org.uk/event/tc-youngs-jim-bauld-on-the-2014-act-tenancy-and-allocations-provisions-gwsf-housing-management-group/
END:VEVENT
END:VCALENDAR