BEGIN:VCALENDAR
VERSION:2.0
PRODID:-//Glasgow and West of Scotland Forum of Housing Associations - ECPv5.3.2.1//NONSGML v1.0//EN
CALSCALE:GREGORIAN
METHOD:PUBLISH
X-WR-CALNAME:Glasgow and West of Scotland Forum of Housing Associations
X-ORIGINAL-URL:https://gwsf.org.uk
X-WR-CALDESC:Events for Glasgow and West of Scotland Forum of Housing Associations
BEGIN:VTIMEZONE
TZID:Europe/London
BEGIN:DAYLIGHT
TZOFFSETFROM:+0000
TZOFFSETTO:+0100
TZNAME:BST
DTSTART:20180325T010000
END:DAYLIGHT
BEGIN:STANDARD
TZOFFSETFROM:+0100
TZOFFSETTO:+0000
TZNAME:GMT
DTSTART:20181028T010000
END:STANDARD
END:VTIMEZONE
BEGIN:VEVENT
DTSTART;TZID=Europe/London:20180219T140000
DTEND;TZID=Europe/London:20180219T160000
DTSTAMP:20260426T011142
CREATED:20180125T151119Z
LAST-MODIFIED:20180125T151119Z
UID:2201-1519048800-1519056000@gwsf.org.uk
SUMMARY:HOUSING MANAGEMENT GROUP MEETING - MONDAY 19TH FEBRUARY
DESCRIPTION:The Housing Management Group meeting on Monday 19th of February will focus on Universal Credit with speakers from the Forum’s membership discussing key issues for Associations.
URL:https://gwsf.org.uk/event/housing-management-group-meeting-monday-19th-february/
LOCATION:Milnbank Housing Association\, 53 Ballindalloch Drive\, Glasgow\, G31 3DQ
END:VEVENT
END:VCALENDAR