BEGIN:VCALENDAR
VERSION:2.0
PRODID:-//Glasgow and West of Scotland Forum of Housing Associations - ECPv5.3.2.1//NONSGML v1.0//EN
CALSCALE:GREGORIAN
METHOD:PUBLISH
X-WR-CALNAME:Glasgow and West of Scotland Forum of Housing Associations
X-ORIGINAL-URL:https://gwsf.org.uk
X-WR-CALDESC:Events for Glasgow and West of Scotland Forum of Housing Associations
BEGIN:VTIMEZONE
TZID:Europe/London
BEGIN:DAYLIGHT
TZOFFSETFROM:+0000
TZOFFSETTO:+0100
TZNAME:BST
DTSTART:20210328T010000
END:DAYLIGHT
BEGIN:STANDARD
TZOFFSETFROM:+0100
TZOFFSETTO:+0000
TZNAME:GMT
DTSTART:20211031T010000
END:STANDARD
END:VTIMEZONE
BEGIN:VEVENT
DTSTART;TZID=Europe/London:20211119T091500
DTEND;TZID=Europe/London:20211119T143000
DTSTAMP:20260425T220651
CREATED:20211021T085726Z
LAST-MODIFIED:20211116T122855Z
UID:3233-1637313300-1637332200@gwsf.org.uk
SUMMARY:GWSF's Autumn Membership Gathering (via Zoom)
DESCRIPTION:What does the ‘new normal’ look like for community based housing associations?\nOnline this year\, our autumn gathering features a thought-provoking programme and diverse range of speakers\, while also allowing two separate opportunities for smaller discussion groups. Delegates can tweet on the day with #GWSF2021. \nPlenary sessions include: \n\nDoes Covid make a ‘wellbeing economy’ more or less likely? Katherine Trebeck\, Writer and Researcher\, looks at the chance of us moving towards a different kind of society and economy\nAre we fighting fit for the future? David Bookbinder and Colleen Rowan\, GWSF\, explore the findings of current membership research on the strength of our committees/boards\nWhat is ‘community’? – A view from the south. Tony Stacey\, Chief Executive\, South Yorkshire HA\, outlines what’s really happening in the sector in England. Are associations there just too big to think about being truly community-focused?\n\nA choice of five workshops: \n\nHousing associations tackling child poverty\nRetrofit and new heating systems – what will the cost be to tenants?\nAvoiding evictions and arrears – what more can we do?\nRent increase challenges\nInnovation in going digital – giving tenants real choices\n\nBook your place and read more in the programme.
URL:https://gwsf.org.uk/event/gwsfs-autumn-membership-gathering-via-zoom/
LOCATION:Zoom
END:VEVENT
END:VCALENDAR