BEGIN:VCALENDAR
VERSION:2.0
PRODID:-//Glasgow and West of Scotland Forum of Housing Associations - ECPv5.3.2.1//NONSGML v1.0//EN
CALSCALE:GREGORIAN
METHOD:PUBLISH
X-WR-CALNAME:Glasgow and West of Scotland Forum of Housing Associations
X-ORIGINAL-URL:https://gwsf.org.uk
X-WR-CALDESC:Events for Glasgow and West of Scotland Forum of Housing Associations
BEGIN:VTIMEZONE
TZID:Europe/London
BEGIN:DAYLIGHT
TZOFFSETFROM:+0000
TZOFFSETTO:+0100
TZNAME:BST
DTSTART:20240331T010000
END:DAYLIGHT
BEGIN:STANDARD
TZOFFSETFROM:+0100
TZOFFSETTO:+0000
TZNAME:GMT
DTSTART:20241027T010000
END:STANDARD
END:VTIMEZONE
BEGIN:VEVENT
DTSTART;VALUE=DATE:20240607
DTEND;VALUE=DATE:20240608
DTSTAMP:20260425T202847
CREATED:20240307T125410Z
LAST-MODIFIED:20240530T104721Z
UID:3705-1717718400-1717804799@gwsf.org.uk
SUMMARY:GWSF Annual Regeneration Conference 2024
DESCRIPTION:A just transition to net zero: How can CBHAs and their communities get there?\nThe discourse around a just transition to net zero has become increasingly amplified over the last few years. For the Scottish Government a just transition is both the outcome – a fairer\, greener future for all – and the process that must be undertaken in partnership with those impacted by the transition to net zero. The intention is that it supports a net zero and climate resilient economy in a way that delivers fairness and tackles inequality and injustice. On the face of it\, it’s hard to argue that both aspirations should not go hand-in-hand\, and that one cannot be achieved without the other. \nHowever\, when we consider the hard facts about the communities where our members are based\, in terms of socio-economic deprivation\, fuel poverty\, health and other inequalities the move towards a just transition\, and how this can be achieved\, seems challenging to say the least. If tenants’ rents are expected to fund retrofit activities\, then this is far from a just transition. Nonetheless\, we know that our members are taking forward a variety of projects with pots of funding from various sources. Furthermore\, they are keen to hear more about how the journey to a just transition might be achieved. \nOur one-day summer conference this year explores all these issues and will give delegates the opportunity to hear from a range of key plenary speakers. As always\, our ever-popular café sessions will feature Forum members talking about their associations’ activities and projects. \nRead the draft programme and book through Share.
URL:https://gwsf.org.uk/event/gwsf-annual-regeneration-conference-2024/
LOCATION:Roystonhill Community Hub\, 174 Roystonhill\, Glasgow\, G21 2LG\, United Kingdom
ATTACH;FMTTYPE=image/jpeg:https://gwsf.org.uk/wp-content/uploads/Regen2024.jpg
END:VEVENT
END:VCALENDAR