BEGIN:VCALENDAR
VERSION:2.0
PRODID:-//Glasgow and West of Scotland Forum of Housing Associations - ECPv5.3.2.1//NONSGML v1.0//EN
CALSCALE:GREGORIAN
METHOD:PUBLISH
X-WR-CALNAME:Glasgow and West of Scotland Forum of Housing Associations
X-ORIGINAL-URL:https://gwsf.org.uk
X-WR-CALDESC:Events for Glasgow and West of Scotland Forum of Housing Associations
BEGIN:VTIMEZONE
TZID:Europe/London
BEGIN:DAYLIGHT
TZOFFSETFROM:+0000
TZOFFSETTO:+0100
TZNAME:BST
DTSTART:20230326T010000
END:DAYLIGHT
BEGIN:STANDARD
TZOFFSETFROM:+0100
TZOFFSETTO:+0000
TZNAME:GMT
DTSTART:20231029T010000
END:STANDARD
END:VTIMEZONE
BEGIN:VEVENT
DTSTART;TZID=Europe/London:20230623T090000
DTEND;TZID=Europe/London:20230623T160000
DTSTAMP:20260425T203226
CREATED:20230501T151446Z
LAST-MODIFIED:20230607T164031Z
UID:3522-1687510800-1687536000@gwsf.org.uk
SUMMARY:GWSF Annual Regeneration Conference 2023
DESCRIPTION:CBHAs: Building Resilience in Challenging Times\nOver the past few years\, we’ve witnessed individuals and communities throughout Scotland reeling from the lingering consequences of the pandemic in relation to increased poverty and inequality. These societal ‘long-Covid’ impacts have subsequently been exacerbated by the challenges of a Cost of Living Crisis and a huge rise in fuel costs. \nOur one-day summer conference this year explores how CBHAs are working with their tenants and communities to help build resilience in order to help counter these challenges. And how this focus on resilience building also extends to staff\, and to associations themselves. \nThe conference will give delegates the opportunity to hear from key plenary speakers; about the principles which underpin resilience\, and how it works in practice. \nAs always\, our ever-popular café sessions will feature Forum members talking about their associations’ activities and projects which help support resilience. \nMore details are in the programme. \nBOOK A PLACE
URL:https://gwsf.org.uk/event/gwsf-annual-regeneration-conference-2023/
LOCATION:Roystonhill Community Hub\, 174 Roystonhill\, Glasgow\, G21 2LG\, United Kingdom
ATTACH;FMTTYPE=image/png:https://gwsf.org.uk/wp-content/uploads/RegenSaveDate.png
END:VEVENT
END:VCALENDAR