BEGIN:VCALENDAR
VERSION:2.0
PRODID:-//Glasgow and West of Scotland Forum of Housing Associations - ECPv5.3.2.1//NONSGML v1.0//EN
CALSCALE:GREGORIAN
METHOD:PUBLISH
X-WR-CALNAME:Glasgow and West of Scotland Forum of Housing Associations
X-ORIGINAL-URL:https://gwsf.org.uk
X-WR-CALDESC:Events for Glasgow and West of Scotland Forum of Housing Associations
BEGIN:VTIMEZONE
TZID:Europe/London
BEGIN:DAYLIGHT
TZOFFSETFROM:+0000
TZOFFSETTO:+0100
TZNAME:BST
DTSTART:20190331T010000
END:DAYLIGHT
BEGIN:STANDARD
TZOFFSETFROM:+0100
TZOFFSETTO:+0000
TZNAME:GMT
DTSTART:20191027T010000
END:STANDARD
END:VTIMEZONE
BEGIN:VEVENT
DTSTART;TZID=Europe/London:20190815T183000
DTEND;TZID=Europe/London:20190815T203000
DTSTAMP:20260425T221101
CREATED:20190805T134231Z
LAST-MODIFIED:20190805T143503Z
UID:2734-1565893800-1565901000@gwsf.org.uk
SUMMARY:GWSF Annual General Meeting 2019 and Open Meeting
DESCRIPTION:The 2019 AGM will take place from 6.30pm to 7.00pm on Thursday 15 August. \nThe AGM will be followed at 7.00pm by a GWSF Open Meeting featuring: Jim Strang\, Chief Executive of Parkhead HA and President of the Chartered Institute of Housing\, on the Make a Stand Campaign and the role HAs can play in tackling domestic abuse; and\, Professor Douglas Robertson\, who will look at the prospects for radical reform to Scotland’s approach to our deteriorating tenements.
URL:https://gwsf.org.uk/event/gwsf-annual-general-meeting-2019-and-open-meeting/
LOCATION:Govanhill Housing Association\, Samaritan House\, 79 Coplaw Street\, Glasgow\, G42 7JG
ATTACH;FMTTYPE=image/png:https://gwsf.org.uk/wp-content/uploads/GWSFannualreport.png
END:VEVENT
END:VCALENDAR