BEGIN:VCALENDAR
VERSION:2.0
PRODID:-//Glasgow and West of Scotland Forum of Housing Associations - ECPv5.3.2.1//NONSGML v1.0//EN
CALSCALE:GREGORIAN
METHOD:PUBLISH
X-WR-CALNAME:Glasgow and West of Scotland Forum of Housing Associations
X-ORIGINAL-URL:https://gwsf.org.uk
X-WR-CALDESC:Events for Glasgow and West of Scotland Forum of Housing Associations
BEGIN:VTIMEZONE
TZID:Europe/London
BEGIN:DAYLIGHT
TZOFFSETFROM:+0000
TZOFFSETTO:+0100
TZNAME:BST
DTSTART:20180325T010000
END:DAYLIGHT
BEGIN:STANDARD
TZOFFSETFROM:+0100
TZOFFSETTO:+0000
TZNAME:GMT
DTSTART:20181028T010000
END:STANDARD
END:VTIMEZONE
BEGIN:VEVENT
DTSTART;TZID=Europe/London:20180816T183000
DTEND;TZID=Europe/London:20180816T210000
DTSTAMP:20260425T233933
CREATED:20180806T094544Z
LAST-MODIFIED:20180806T094544Z
UID:2370-1534444200-1534453200@gwsf.org.uk
SUMMARY:GWSF Annual General Meeting 2018 followed by Open Meeting
DESCRIPTION:The 2018 AGM will take place from 6.30 to 7.00pm on Thursday 16 August. \nThe AGM will be followed at 7.00pm by a GWSF Open Meeting featuring Bob Doris\, MSP\, Chair of Holyrood’s Local Government and Communities Committee\, who will talk about how HAs are perceived by MSPs. \n 
URL:https://gwsf.org.uk/event/gwsf-annual-general-meeting-2018-followed-by-open-meeting/
LOCATION:Govanhill Housing Association\, Samaritan House\, 79 Coplaw Street\, Glasgow\, G42 7JG
END:VEVENT
END:VCALENDAR