BEGIN:VCALENDAR
VERSION:2.0
PRODID:-//Glasgow and West of Scotland Forum of Housing Associations - ECPv5.3.2.1//NONSGML v1.0//EN
CALSCALE:GREGORIAN
METHOD:PUBLISH
X-WR-CALNAME:Glasgow and West of Scotland Forum of Housing Associations
X-ORIGINAL-URL:https://gwsf.org.uk
X-WR-CALDESC:Events for Glasgow and West of Scotland Forum of Housing Associations
BEGIN:VTIMEZONE
TZID:Europe/London
BEGIN:DAYLIGHT
TZOFFSETFROM:+0000
TZOFFSETTO:+0100
TZNAME:BST
DTSTART:20170326T010000
END:DAYLIGHT
BEGIN:STANDARD
TZOFFSETFROM:+0100
TZOFFSETTO:+0000
TZNAME:GMT
DTSTART:20171029T010000
END:STANDARD
END:VTIMEZONE
BEGIN:VEVENT
DTSTART;TZID=Europe/London:20170817T063000
DTEND;TZID=Europe/London:20170817T210000
DTSTAMP:20260426T011330
CREATED:20170713T141202Z
LAST-MODIFIED:20170713T141202Z
UID:2000-1502951400-1503003600@gwsf.org.uk
SUMMARY:GWSF AGM and Open Meeting Thursday 17 August\, 6.30pm\, Govanhill HA
DESCRIPTION:Following our short AGM at 6.30pm\, our Open Meeting at 7pm will welcome back journalist and broadcaster Gerry Hassan\, whose contribution to our Annual Conference last November had to be curtailed due to the Minister being late. No need to book – just come along on the night.\n 
URL:https://gwsf.org.uk/event/gwsf-agm-and-open-meeting-thursday-17-august-6-30pm-govanhill-ha/
LOCATION:Govanhill Housing Association\, Samaritan House\, 79 Coplaw Street\, Glasgow\, G42 7JG
END:VEVENT
END:VCALENDAR