BEGIN:VCALENDAR
VERSION:2.0
PRODID:-//Glasgow and West of Scotland Forum of Housing Associations - ECPv5.3.2.1//NONSGML v1.0//EN
CALSCALE:GREGORIAN
METHOD:PUBLISH
X-WR-CALNAME:Glasgow and West of Scotland Forum of Housing Associations
X-ORIGINAL-URL:https://gwsf.org.uk
X-WR-CALDESC:Events for Glasgow and West of Scotland Forum of Housing Associations
BEGIN:VTIMEZONE
TZID:Europe/London
BEGIN:DAYLIGHT
TZOFFSETFROM:+0000
TZOFFSETTO:+0100
TZNAME:BST
DTSTART:20240331T010000
END:DAYLIGHT
BEGIN:STANDARD
TZOFFSETFROM:+0100
TZOFFSETTO:+0000
TZNAME:GMT
DTSTART:20241027T010000
END:STANDARD
END:VTIMEZONE
BEGIN:VEVENT
DTSTART;VALUE=DATE:20241129
DTEND;VALUE=DATE:20241130
DTSTAMP:20260425T202927
CREATED:20240820T135209Z
LAST-MODIFIED:20241219T124036Z
UID:3846-1732838400-1732924799@gwsf.org.uk
SUMMARY:GWSF Annual Conference 2024
DESCRIPTION:This year’s annual conference focused on future-proofing the community-based housing sector.
URL:https://gwsf.org.uk/event/annual-conference-2024/
LOCATION:Radisson Blu Hotel\, Glasgow
ATTACH;FMTTYPE=image/jpeg:https://gwsf.org.uk/wp-content/uploads/SHA1.jpeg
END:VEVENT
END:VCALENDAR