BEGIN:VCALENDAR
VERSION:2.0
PRODID:-//Glasgow and West of Scotland Forum of Housing Associations - ECPv5.3.2.1//NONSGML v1.0//EN
CALSCALE:GREGORIAN
METHOD:PUBLISH
X-WR-CALNAME:Glasgow and West of Scotland Forum of Housing Associations
X-ORIGINAL-URL:https://gwsf.org.uk
X-WR-CALDESC:Events for Glasgow and West of Scotland Forum of Housing Associations
BEGIN:VTIMEZONE
TZID:Europe/London
BEGIN:DAYLIGHT
TZOFFSETFROM:+0000
TZOFFSETTO:+0100
TZNAME:BST
DTSTART:20180325T010000
END:DAYLIGHT
BEGIN:STANDARD
TZOFFSETFROM:+0100
TZOFFSETTO:+0000
TZNAME:GMT
DTSTART:20181028T010000
END:STANDARD
END:VTIMEZONE
BEGIN:VEVENT
DTSTART;TZID=Europe/London:20180220T140000
DTEND;TZID=Europe/London:20180220T163000
DTSTAMP:20260425T234010
CREATED:20180126T104232Z
LAST-MODIFIED:20180126T104232Z
UID:2208-1519135200-1519144200@gwsf.org.uk
SUMMARY:Afternoon session for GWSF members on SHR discussion paper - Tuesday 20th February
DESCRIPTION:We are running this session twice on Tuesday\, 20th February. if you would like to sign up for the afternoon session. Please contact David Bookbinder at  –  david.bookbinder@gwsf.org.uk
URL:https://gwsf.org.uk/event/afternoon-session-for-gwsf-members-on-shr-discussion-paper-tuesday-20th-february/
LOCATION:Queens Cross Housing Association\, 45 Firhill Road\, Glasgow\, G20 7BE
END:VEVENT
END:VCALENDAR